BEGIN:VCALENDAR
VERSION:2.0
PRODID:-//TYPO3/NONSGML Calendarize//EN
BEGIN:VEVENT
UID:calendarize-faschings-boule-turnier-20260505
DTSTAMP:20260424T133447Z
DTSTART:20260505T110000Z
DTEND:20260505T123000Z
SUMMARY:Boule-Turnier
DESCRIPTION:Das doppelte Boule-Spielfeld am Marktpatz ist wieder für ein 
 Turnier bereit.Machen Sie mit! Boule-Sets sind im Seniorenbüro vorhanden.
 Das Team Seniorenarbeit freut sich schon auf das lustige Kugel-Match mit I
 hnen!
X-ALT-DESC;FMTTYPE=text/html:<p>Das doppelte Boule-Spielfeld am Marktpatz 
 ist wieder für ein Turnier bereit.<br /><br />Machen Sie mit! Boule-Sets 
 sind im Seniorenbüro vorhanden.<br /><br />Das Team Seniorenarbeit freut 
 sich schon auf das lustige Kugel-Match mit Ihnen!</p>
LOCATION:
END:VEVENT
END:VCALENDAR
