BEGIN:VCALENDAR
VERSION:2.0
PRODID:-//TYPO3/NONSGML Calendarize//EN
BEGIN:VEVENT
UID:calendarize-seniorennachmittag-5-20260506
DTSTAMP:20260424T133649Z
DTSTART:20260506T120000Z
DTEND:20260506T140000Z
SUMMARY:Seniorennachmittag
DESCRIPTION:
X-ALT-DESC;FMTTYPE=text/html:
LOCATION:
END:VEVENT
END:VCALENDAR
