BEGIN:VCALENDAR
VERSION:2.0
PRODID:-//TYPO3/NONSGML Calendarize//EN
BEGIN:VEVENT
UID:calendarize-seniorennachmittag-mit-filmvorfuehrung-1-20260520
DTSTAMP:20260424T133909Z
DTSTART:20260520T120000Z
DTEND:20260520T140000Z
SUMMARY:Seniorennachmittag mit Filmvorführung
DESCRIPTION:Es erwartet Sie ein bunter Mix aus geselligem Beisammensein be
 i Kaffee und Kuchen und einem interessanten Film.
X-ALT-DESC;FMTTYPE=text/html:<p>Es erwartet Sie ein bunter Mix aus geselli
 gem Beisammensein bei Kaffee und Kuchen und einem interessanten Film.</p>
LOCATION:
END:VEVENT
END:VCALENDAR
