BEGIN:VCALENDAR
VERSION:2.0
PRODID:-//TYPO3/NONSGML Calendarize//EN
BEGIN:VEVENT
UID:calendarize-zusammen-digital-beratungstheke-20260504
DTSTAMP:20260424T134159Z
DTSTART:20260504T133000Z
DTEND:20260504T150000Z
SUMMARY:"zusammen digital“-Beratungstheke
DESCRIPTION:Das Beratungsteam von "zusammen digital" ist für Sie da. Komm
 en Sie bei uns vorbei – unsere geschulten Jugendlichen freuen sich schon
  auf Ihre Fragen und beraten Sie kostenlos!
X-ALT-DESC;FMTTYPE=text/html:<p>Das Beratungsteam von "zusammen digital" i
 st für Sie da. Kommen Sie bei uns vorbei – unsere geschulten Jugendlich
 en freuen sich schon auf Ihre Fragen und beraten Sie kostenlos!</p>
LOCATION:
END:VEVENT
END:VCALENDAR
